BEGIN:VCALENDAR
VERSION:2.0
PRODID:-//Tramontana
CALSCALE:GREGORIAN
METHOD:PUBLISH
X-WR-CALNAME:Tramontana
X-ORIGINAL-URL:http://tramontana.com.pl/produkt/kurs-mini/
X-WR-CALDESC:Kurs MINI
BEGIN:VEVENT
DTSTART;TZID=Europe/Helsinki:20240616T000000
DTEND;TZID=Europe/Helsinki:20240617T000000
SUMMARY:Kurs MINI
DESCRIPTION:
URL:http://tramontana.com.pl/produkt/kurs-mini/
LOCATION:
END:VEVENT
END:VCALENDAR
