BEGIN:VCALENDAR
VERSION:2.0
PRODID:-//Tramontana
CALSCALE:GREGORIAN
METHOD:PUBLISH
X-WR-CALNAME:Tramontana
X-ORIGINAL-URL:http://tramontana.com.pl/produkt/kurs-midi-2/
X-WR-CALDESC:Kurs MIDI
BEGIN:VEVENT
DTSTART;TZID=Europe/Helsinki:20240623T000000
DTEND;TZID=Europe/Helsinki:20240627T000000
SUMMARY:Kurs MIDI
DESCRIPTION:
URL:http://tramontana.com.pl/produkt/kurs-midi-2/
LOCATION:
END:VEVENT
END:VCALENDAR
