BEGIN:VCALENDAR
VERSION:2.0
PRODID:-//Tramontana
CALSCALE:GREGORIAN
METHOD:PUBLISH
X-WR-CALNAME:Tramontana
X-ORIGINAL-URL:http://tramontana.com.pl/produkt/kurs-midi-6/
X-WR-CALDESC:Kurs MIDI
BEGIN:VEVENT
DTSTART;TZID=Europe/Helsinki:20240721T000000
DTEND;TZID=Europe/Helsinki:20240725T000000
SUMMARY:Kurs MIDI
DESCRIPTION:
URL:http://tramontana.com.pl/produkt/kurs-midi-6/
LOCATION:
END:VEVENT
END:VCALENDAR
