BEGIN:VCALENDAR
VERSION:2.0
PRODID:-//Tramontana
CALSCALE:GREGORIAN
METHOD:PUBLISH
X-WR-CALNAME:Tramontana
X-ORIGINAL-URL:http://tramontana.com.pl/produkt/kurs-midi-plus-4/
X-WR-CALDESC:Kurs MIDI PLUS
BEGIN:VEVENT
DTSTART;TZID=Europe/Helsinki:20240707T000000
DTEND;TZID=Europe/Helsinki:20240711T000000
SUMMARY:Kurs MIDI PLUS
DESCRIPTION:
URL:http://tramontana.com.pl/produkt/kurs-midi-plus-4/
LOCATION:
END:VEVENT
END:VCALENDAR
