BEGIN:VCALENDAR
VERSION:2.0
PRODID:-//Tramontana
CALSCALE:GREGORIAN
METHOD:PUBLISH
X-WR-CALNAME:Tramontana
X-ORIGINAL-URL:http://tramontana.com.pl/produkt/kurs-maxi-5/
X-WR-CALDESC:Kurs MAXI
BEGIN:VEVENT
DTSTART;TZID=Europe/Helsinki:20240714T000000
DTEND;TZID=Europe/Helsinki:20240718T000000
SUMMARY:Kurs MAXI
DESCRIPTION:
URL:http://tramontana.com.pl/produkt/kurs-maxi-5/
LOCATION:
END:VEVENT
END:VCALENDAR
